BEGIN:VCALENDAR
METHOD:PUBLISH
VERSION:2.0
PRODID:-//WoltLab GmbH//WoltLab Calendar 2.0//EN
CALSCALE:GREGORIAN
X-WR-CALNAME;VALUE=TEXT:Lotro-WE-Event
BEGIN:VEVENT
TRANSP:OPAQUE
UID:event-1@skc.ch
URL:https://skc.ch/dhdf/calendar/index.php/Event/1-Lotro-Herbstfest-18-10-2
 016-ca-16-00-bis-3-11-2016-ca-09-00/
DTSTART:20161018T140000Z
DTSTAMP:20161018T140000Z
CREATED:20161018T140000Z
SUMMARY:Lotro-Herbstfest 18.10.2016 ca 16:00  bis  3.11.2016 ca 09.00
DESCRIPTION:Lotro-Herbstfest\n18.10.2016 ca 16:00\nbis\n3.11.2016 ca 09.00\
 nskc.ch/dhdf/index.php/Attachment/43/
DTEND:20161103T080000Z
END:VEVENT
BEGIN:VEVENT
TRANSP:OPAQUE
UID:event-2@skc.ch
URL:https://skc.ch/dhdf/calendar/index.php/Event/2-25-Scharm%C3%BCtzelzeich
 en/
DTSTART:20170112T150000Z
DTSTAMP:20170112T150000Z
CREATED:20170112T150000Z
SUMMARY:+25 % Scharmützelzeichen
DESCRIPTION:+25 % Scharmützelzeichen
DTEND:20170116T234600Z
END:VEVENT
BEGIN:VEVENT
TRANSP:OPAQUE
UID:event-4@skc.ch
URL:https://skc.ch/dhdf/calendar/index.php/Event/4-Fr%C3%BChlingsfest-2017/
DTSTART:20170322T140000Z
DTSTAMP:20170322T140000Z
CREATED:20170322T140000Z
SUMMARY:Frühlingsfest 2017
DESCRIPTION:Frühlingsfest 2017\nStart : 22. März 2017 15:00\nEnde : 03. Apr
 il 2017 09:00\nVelängert bis 10. April 2017 09:00
LOCATION:HdRO / Lotro
DTEND:20170410T070000Z
END:VEVENT
BEGIN:VEVENT
TRANSP:OPAQUE
UID:event-6@skc.ch
URL:https://skc.ch/dhdf/calendar/index.php/Event/6-Hobnanigans/
DTSTART:20170406T140000Z
DTSTAMP:20170406T140000Z
CREATED:20170406T140000Z
SUMMARY:Hobnanigans
DESCRIPTION:Hobnanigans\nStart : 6. April 2017 16:00\nEnde : 10. April 2017
  09:00
LOCATION:HdRO / Lotro
DTEND:20170410T070000Z
END:VEVENT
BEGIN:VEVENT
TRANSP:OPAQUE
UID:event-9@skc.ch
URL:https://skc.ch/dhdf/calendar/index.php/Event/9-VIP-Event-Boost/
DTSTART:20170413T140000Z
DTSTAMP:20170413T140000Z
CREATED:20170413T140000Z
SUMMARY:VIP Event Boost
DESCRIPTION:VIP Event Boost\nStart : 13. April 2017 16:00\nEnde : 17. April
  2017 09:00
DTEND:20170417T070000Z
END:VEVENT
BEGIN:VEVENT
TRANSP:OPAQUE
UID:event-10@skc.ch
URL:https://skc.ch/dhdf/calendar/index.php/Event/10-Jubil%C3%A4umsfest/
DTSTART:20170420T140000Z
DTSTAMP:20170420T140000Z
CREATED:20170420T140000Z
SUMMARY:Jubiläumsfest
DESCRIPTION:VIP Event Boost\nStart : 20. April 2017 16:00\nEnde : 09. Mai 2
 017 09:00
DTEND:20170509T070000Z
END:VEVENT
BEGIN:VEVENT
TRANSP:OPAQUE
UID:event-11@skc.ch
URL:https://skc.ch/dhdf/calendar/index.php/Event/11-Hobnanigans/
DTSTART:20170504T140000Z
DTSTAMP:20170504T140000Z
CREATED:20170504T140000Z
SUMMARY:Hobnanigans
DESCRIPTION:Hobnanigans\nStart : 04.05. Mai 2017 16:00\nEnde : 08.05. Mai 2
 017 09:00
DTEND:20170508T070000Z
END:VEVENT
BEGIN:VEVENT
TRANSP:OPAQUE
UID:event-21@skc.ch
URL:https://skc.ch/dhdf/calendar/index.php/Event/483-11-Hdro-Jubil%C3%A4um/
DTSTART:20180419T140000Z
DTSTAMP:20180419T140000Z
CREATED:20180419T140000Z
SUMMARY:11. Hdro Jubiläum
DESCRIPTION:11. Hdro Jubiläum
DTEND:20180514T070000Z
END:VEVENT
BEGIN:VEVENT
TRANSP:OPAQUE
UID:event-28@skc.ch
URL:https://skc.ch/dhdf/calendar/index.php/Event/2709-Fr%C3%BChlingsfest-Re
 loaded/
DTSTART:20180518T140000Z
DTSTAMP:20180518T140000Z
CREATED:20180518T140000Z
SUMMARY:Frühlingsfest Reloaded
DESCRIPTION:Frühlingsfest Reloaded\nwurde bis 31.05.2018 09:00 verlängert\n
 Quelle : lotro.com/forums/showthread.ph…ule&amp\;p=7837968#post7837968
DTEND:20180531T070000Z
END:VEVENT
BEGIN:VEVENT
TRANSP:OPAQUE
UID:event-29@skc.ch
URL:https://skc.ch/dhdf/calendar/index.php/Event/2710-11-Hdro-Jubil%C3%A4um
 -Reldead/
DTSTART:20180607T140000Z
DTSTAMP:20180607T140000Z
CREATED:20180607T140000Z
SUMMARY:11. Hdro Jubiläum Reldead
DESCRIPTION:11. Hdro Jubiläum Reldead
DTEND:20180618T070000Z
END:VEVENT
BEGIN:VEVENT
TRANSP:OPAQUE
UID:event-30@skc.ch
URL:https://skc.ch/dhdf/calendar/index.php/Event/2711-Sommerfest/
DTSTART:20180628T140000Z
DTSTAMP:20180628T140000Z
CREATED:20180628T140000Z
SUMMARY:Sommerfest
DESCRIPTION:Sommerfest
DTEND:20180717T070000Z
END:VEVENT
BEGIN:VEVENT
TRANSP:OPAQUE
UID:event-31@skc.ch
URL:https://skc.ch/dhdf/calendar/index.php/Event/2712-Sommerfest-Reloaded/
DTSTART:20180809T140000Z
DTSTAMP:20180809T140000Z
CREATED:20180809T140000Z
SUMMARY:Sommerfest - Reloaded
DESCRIPTION:Sommerfest - Reloaded
DTEND:20180820T070000Z
END:VEVENT
BEGIN:VEVENT
TRANSP:OPAQUE
UID:event-37@skc.ch
URL:https://skc.ch/dhdf/calendar/index.php/Event/3890-Winter-Weihnachts-Fes
 t-Reloaded-2-Bonus-Quest/
DTSTART:20180731T140000Z
DTSTAMP:20180731T140000Z
CREATED:20180731T140000Z
SUMMARY:Winter (Weihnachts) - Fest Reloaded 2 + Bonus-Quest
DESCRIPTION:Winter (Weihnachts) - Fest Reloaded 2 + Bonus-Quest
DTEND:20180808T070000Z
END:VEVENT
BEGIN:VEVENT
TRANSP:OPAQUE
UID:event-38@skc.ch
URL:https://skc.ch/dhdf/calendar/index.php/Event/3891-Hobnanigans/
DTSTART:20180802T140000Z
DTSTAMP:20180802T140000Z
CREATED:20180802T140000Z
SUMMARY:Hobnanigans
DESCRIPTION:Hobnanigans
DTEND:20180806T070000Z
END:VEVENT
BEGIN:VEVENT
TRANSP:OPAQUE
UID:event-39@skc.ch
URL:https://skc.ch/dhdf/calendar/index.php/Event/3892-Vip-Wochende/
DTSTART:20180823T140000Z
DTSTAMP:20180823T140000Z
CREATED:20180823T140000Z
SUMMARY:Vip-Wochende
DESCRIPTION:Vip-Wochende
DTEND:20180827T070000Z
END:VEVENT
BEGIN:VEVENT
TRANSP:OPAQUE
UID:event-40@skc.ch
URL:https://skc.ch/dhdf/calendar/index.php/Event/3893-Bauern-Fest/
DTSTART:20180823T140000Z
DTSTAMP:20180823T140000Z
CREATED:20180823T140000Z
SUMMARY:Bauern-Fest
DESCRIPTION:Bauern-Fest
DTEND:20180910T070000Z
END:VEVENT
BEGIN:VEVENT
TRANSP:OPAQUE
UID:event-41@skc.ch
URL:https://skc.ch/dhdf/calendar/index.php/Event/3894-Tale-of-the-Shipwreck
 ed-Mariner/
DTSTART:20180915T140000Z
DTSTAMP:20180915T140000Z
CREATED:20180915T140000Z
SUMMARY:Tale of the Shipwrecked Mariner
DESCRIPTION:Tale of the Shipwrecked Mariner / Geschichte des Schiffbrüchige
 n
DTEND:20180920T070000Z
END:VEVENT
BEGIN:VEVENT
TRANSP:OPAQUE
UID:event-42@skc.ch
URL:https://skc.ch/dhdf/calendar/index.php/Event/3895-Bilbos-Geburtstag/
DTSTART:20180920T140000Z
DTSTAMP:20180920T140000Z
CREATED:20180920T140000Z
SUMMARY:Bilbos Geburtstag
DESCRIPTION:Bilbos Geburtstag
DTEND:20180926T070000Z
END:VEVENT
BEGIN:VEVENT
TRANSP:OPAQUE
UID:event-43@skc.ch
URL:https://skc.ch/dhdf/calendar/index.php/Event/3896-25-Scharm%C3%BCtzel-Z
 eichen/
DTSTART:20180927T140000Z
DTSTAMP:20180927T140000Z
CREATED:20180927T140000Z
SUMMARY:+25% Scharmützel-Zeichen
DESCRIPTION:+25% Scharmützel-Zeichen
DTEND:20181001T070000Z
END:VEVENT
BEGIN:VEVENT
TRANSP:OPAQUE
UID:event-45@skc.ch
URL:https://skc.ch/dhdf/calendar/index.php/Event/3898-Hobnanigans/
DTSTART:20181004T140000Z
DTSTAMP:20181004T140000Z
CREATED:20181004T140000Z
SUMMARY:Hobnanigans
DESCRIPTION:Hobnanigans\n4. Oktober 2018 16:00 - 8. Oktober 2018 09:00
DTEND:20181008T070000Z
END:VEVENT
BEGIN:VEVENT
TRANSP:OPAQUE
UID:event-46@skc.ch
URL:https://skc.ch/dhdf/calendar/index.php/Event/3899-25-Handwrk-EP/
DTSTART:20181011T140000Z
DTSTAMP:20181011T140000Z
CREATED:20181011T140000Z
SUMMARY:+25% Handwrk EP
DESCRIPTION:+25% Handwrk EP\n11. Oktober 2018 16:00 - 15. Oktober 2018 09:0
 0
DTEND:20181015T070000Z
END:VEVENT
BEGIN:VEVENT
TRANSP:OPAQUE
UID:event-47@skc.ch
URL:https://skc.ch/dhdf/calendar/index.php/Event/3900-Herbst-Fest-Halloween
 /
DTSTART:20181016T140000Z
DTSTAMP:20181016T140000Z
CREATED:20181016T140000Z
SUMMARY:Herbst-Fest / Halloween
DESCRIPTION:Herbst-Fest / Halloween\n16. Oktober 2018 16:00 - 7. November 2
 018 09:00
DTEND:20181107T080000Z
END:VEVENT
BEGIN:VEVENT
TRANSP:OPAQUE
UID:event-48@skc.ch
URL:https://skc.ch/dhdf/calendar/index.php/Event/3901-VIP-Event/
DTSTART:20181108T150000Z
DTSTAMP:20181108T150000Z
CREATED:20181108T150000Z
SUMMARY:VIP Event
DESCRIPTION:VIP Event\n8. November 2018 16:00 - 13. November 2018 09:00\nsk
 c.ch/dhdf/index.php/Attachment/59/
DTEND:20181113T080000Z
END:VEVENT
BEGIN:VEVENT
TRANSP:OPAQUE
UID:event-49@skc.ch
URL:https://skc.ch/dhdf/calendar/index.php/Event/3902-25-Handwrk-EP/
DTSTART:20181121T150000Z
DTSTAMP:20181121T150000Z
CREATED:20181121T150000Z
SUMMARY:+25% Handwrk EP
DESCRIPTION:+25% Handwrk EP\nMittwoch\, 21. November 2018\, 16:00 - Montag\
 , 26. November 2018\, 09:00\n\nskc.ch/dhdf/index.php/Attachment/90/
DTEND:20181126T080000Z
END:VEVENT
BEGIN:VEVENT
TRANSP:OPAQUE
UID:event-51@skc.ch
URL:https://skc.ch/dhdf/calendar/index.php/Event/3904-25-Scharm%C3%BCtzel-Z
 eichen/
DTSTART:20181213T150000Z
DTSTAMP:20181213T150000Z
CREATED:20181213T150000Z
SUMMARY:& 25% Scharmützel-Zeichen
DESCRIPTION:&amp\; 25% Scharmützel-Zeichen\nDonnerstag\, 13. Dezember 2018\
 , 16:00 - Montag\, 17. Dezember 2018\, 09:00
DTEND:20181217T080000Z
END:VEVENT
BEGIN:VEVENT
TRANSP:OPAQUE
UID:event-53@skc.ch
URL:https://skc.ch/dhdf/calendar/index.php/Event/3906-Vip-Wochende/
DTSTART:20190117T150000Z
DTSTAMP:20190117T150000Z
CREATED:20190117T150000Z
SUMMARY:Vip-Wochende
DESCRIPTION:Vip-Wochende\nDonnerstag\, 17. Januar 2019\, 16:00 - Dienstag\,
  22. Januar 2019\, 09:00\n\nskc.ch/dhdf/index.php/Attachment/89/
DTEND:20190122T080000Z
END:VEVENT
BEGIN:VEVENT
TRANSP:OPAQUE
UID:event-54@skc.ch
URL:https://skc.ch/dhdf/calendar/index.php/Event/3907-Hobnanigans/
DTSTART:20190131T150000Z
DTSTAMP:20190131T150000Z
CREATED:20190131T150000Z
SUMMARY:Hobnanigans
DESCRIPTION:Hobnanigans\nDonnerstag\, 31. Januar 2019\, 16:00 - Montag\, 4.
  Februar 2019\, 09:00\n\nskc.ch/dhdf/index.php/Attachment/95/
DTEND:20190204T080000Z
END:VEVENT
BEGIN:VEVENT
TRANSP:OPAQUE
UID:event-55@skc.ch
URL:https://skc.ch/dhdf/calendar/index.php/Event/3908-Skirmish-Event/
DTSTART:20190207T150000Z
DTSTAMP:20190207T150000Z
CREATED:20190207T150000Z
SUMMARY:Skirmish Event
DESCRIPTION:Skirmish Event\nDonnerstag\, 7. Februar 2019\, 16:00 - Dienstag
 \, 12. März 2019\, 09:00\nVerlängert bis Montag 18. März 2019\, 09:00\n\n\n
 skc.ch/dhdf/index.php/Attachment/93/
DTEND:20190318T080000Z
END:VEVENT
BEGIN:VEVENT
TRANSP:OPAQUE
UID:event-63@skc.ch
URL:https://skc.ch/dhdf/calendar/index.php/Event/3916-Willkommen-zur%C3%BCc
 k-Wochen-Ende/
DTSTART:20190124T150000Z
DTSTAMP:20190124T150000Z
CREATED:20190124T150000Z
SUMMARY:Willkommen zurück Wochen-Ende
DESCRIPTION:Willkommen zurück Wochen-Ende\n\nDonnerstag\, 24. Januar 2019\,
  16:00 - Montag\, 28. Januar 2019\, 09:00\n\n\nskc.ch/dhdf/index.php/Attach
 ment/100/
DTEND:20190128T080000Z
END:VEVENT
BEGIN:VEVENT
TRANSP:OPAQUE
UID:event-64@skc.ch
URL:https://skc.ch/dhdf/calendar/index.php/Event/3917-Vergrabene-Sch%C3%A4t
 ze-Ered-Luin-Tieflande/
DTSTART:20190214T150000Z
DTSTAMP:20190214T150000Z
CREATED:20190214T150000Z
SUMMARY:Vergrabene Schätze / Ered Luin (Tieflande)
DESCRIPTION:Vergrabene Schätze / Ered Luin (Tieflande)\nDonnerstag\, 14. Fe
 bruar 2019\, 16:00 - Dienstag\, 19. Februar 2019\, 09:00\n\n\n\nskc.ch/dhdf
 /index.php/Attachment/101/
DTEND:20190219T080000Z
END:VEVENT
BEGIN:VEVENT
TRANSP:OPAQUE
UID:event-66@skc.ch
URL:https://skc.ch/dhdf/calendar/index.php/Event/3919-Vip-Wochende/
DTSTART:20190228T150000Z
DTSTAMP:20190228T150000Z
CREATED:20190228T150000Z
SUMMARY:Vip-Wochende
DESCRIPTION:Vip-Wochende\nDonnerstag\, 28. Februar 2019\, 16:00 - Montag\, 
 4. März 2019\, 09:00\n\n\n\n\nskc.ch/dhdf/index.php/Attachment/102/
DTEND:20190304T080000Z
END:VEVENT
BEGIN:VEVENT
TRANSP:OPAQUE
UID:event-69@skc.ch
URL:https://skc.ch/dhdf/calendar/index.php/Event/3966-25-Handwerks-EP/
DTSTART:20190314T140000Z
DTSTAMP:20190314T140000Z
CREATED:20190314T140000Z
SUMMARY:+ 25 % Handwerks-EP
DESCRIPTION:+ 25 % Handwerks-EP\nDonnerstag\, 14. März 2019\, 15:00 - Monta
 g\, 18. März 2019\, 08:00\n\n\n\n\nskc.ch/dhdf/index.php/Attachment/104/
DTEND:20190318T070000Z
END:VEVENT
BEGIN:VEVENT
TRANSP:OPAQUE
UID:event-72@skc.ch
URL:https://skc.ch/dhdf/calendar/index.php/Event/3969-Hobnanigans/
DTSTART:20190404T140000Z
DTSTAMP:20190404T140000Z
CREATED:20190404T140000Z
SUMMARY:Hobnanigans
DESCRIPTION:Hobnanigans\nDonnerstag\, 4. April 2019\, 16:00 - Montag\, 8. A
 pril 2019\, 09:00\n\n\n\nskc.ch/dhdf/index.php/Attachment/105/
DTEND:20190408T070000Z
END:VEVENT
BEGIN:VEVENT
TRANSP:OPAQUE
UID:event-74@skc.ch
URL:https://skc.ch/dhdf/calendar/index.php/Event/3971-Willkommen-zur%C3%BCc
 k-Wochen-Ende/
DTSTART:20190425T140000Z
DTSTAMP:20190425T140000Z
CREATED:20190425T140000Z
SUMMARY:Willkommen zurück Wochen-Ende
DESCRIPTION:Willkommen zurück Wochen-Ende\nDonnerstag\, 25. April 2019\, 16
 :00 - Montag\, 29. April 2019\, 09:00\n&amp\; 25% Erfahrungs-Punkte (EP)\n\
 n\nskc.ch/dhdf/index.php/Attachment/107/
DTEND:20190429T070000Z
END:VEVENT
BEGIN:VEVENT
TRANSP:OPAQUE
UID:event-77@skc.ch
URL:https://skc.ch/dhdf/calendar/index.php/Event/4247-25-Scharm%C3%BCtzel-Z
 eichen/
DTSTART:20190516T140000Z
DTSTAMP:20190516T140000Z
CREATED:20190516T140000Z
SUMMARY:& 25% Scharmützel-Zeichen
DESCRIPTION:&amp\; 25% Scharmützel-Zeichen\n\nDonnerstag\, 16. Mai 2019\, 1
 6:00 - Montag\, 20. Mai 2019\, 09:00\n\nskc.ch/dhdf/index.php/Attachment/11
 1/
DTEND:20190520T070000Z
END:VEVENT
BEGIN:VEVENT
TRANSP:OPAQUE
UID:event-78@skc.ch
URL:https://skc.ch/dhdf/calendar/index.php/Event/4248-Vip-Wochende/
DTSTART:20190523T140000Z
DTSTAMP:20190523T140000Z
CREATED:20190523T140000Z
SUMMARY:Vip-Wochende
DESCRIPTION:Vip-Wochende\nDonnerstag\, 23. Mai 2019\, 16:00 - Mittwoch\, 28
 . Mai 2019\, 09:00\nskc.ch/dhdf/index.php/Attachment/112/
DTEND:20190528T070000Z
END:VEVENT
BEGIN:VEVENT
TRANSP:OPAQUE
UID:event-80@skc.ch
URL:https://skc.ch/dhdf/calendar/index.php/Event/4250-vergrabene-Sch%C3%A4t
 ze/
DTSTART:20190718T140000Z
DTSTAMP:20190718T140000Z
CREATED:20190718T140000Z
SUMMARY:vergrabene Schätze
DESCRIPTION:vergrabene Schätze\nEred Luin (Tieflande)\nDonnerstag\, 18. Jul
 i 2019\, 16:00 - Montag\, 22. Juli 2019\, 09:00\nskc.ch/dhdf/index.php/Atta
 chment/116/
DTEND:20190722T070000Z
END:VEVENT
BEGIN:VEVENT
TRANSP:OPAQUE
UID:event-81@skc.ch
URL:https://skc.ch/dhdf/calendar/index.php/Event/4251-Willkommen-zur%C3%BCc
 k-WE/
DTSTART:20190725T140000Z
DTSTAMP:20190725T140000Z
CREATED:20190725T140000Z
SUMMARY:Willkommen zurück WE
DESCRIPTION:Willkommen zurück WE\nDonnerstag\, 25. Juli 2019\, 16:00 - Mont
 ag\, 29. Juli 2019\, 09:00\nskc.ch/dhdf/index.php/Attachment/117/
DTEND:20190729T070000Z
END:VEVENT
BEGIN:VEVENT
TRANSP:OPAQUE
UID:event-83@skc.ch
URL:https://skc.ch/dhdf/calendar/index.php/Event/4317-Tale-of-the-Shipwreck
 ed-Mariner/
DTSTART:20190916T140000Z
DTSTAMP:20190916T140000Z
CREATED:20190916T140000Z
SUMMARY:Tale of the Shipwrecked Mariner
DESCRIPTION:Tale of the Shipwrecked Mariner\nMontag\, 16. September 2019\, 
 16:00 - Freitag\, 20. September 2019\, 09:00\n\n\n\nskc.ch/dhdf/index.php/A
 ttachment/124/
DTEND:20190920T070000Z
END:VEVENT
BEGIN:VEVENT
TRANSP:OPAQUE
UID:event-84@skc.ch
URL:https://skc.ch/dhdf/calendar/index.php/Event/4318-Bilbo-s-Birthday/
DTSTART:20190920T140000Z
DTSTAMP:20190920T140000Z
CREATED:20190920T140000Z
SUMMARY:Bilbo's Birthday
DESCRIPTION:Bilbo's Birthday\nFreitag\, 20. September 2019\, 16:00 - Donner
 stag\, 26. September 2019\, 09:00\n\n\nskc.ch/dhdf/index.php/Attachment/125
 /
DTEND:20190926T070000Z
END:VEVENT
BEGIN:VEVENT
TRANSP:OPAQUE
UID:event-85@skc.ch
URL:https://skc.ch/dhdf/calendar/index.php/Event/4319-25-Scharm%C3%BCtzel-Z
 eichen/
DTSTART:20190926T140000Z
DTSTAMP:20190926T140000Z
CREATED:20190926T140000Z
SUMMARY:25% Scharmützel-Zeichen
DESCRIPTION:25% Scharmützel-Zeichen\nDonnerstag\, 26. September 2019\, 16:0
 0 - Montag\, 30. September 2019\, 09:00\n\n\nskc.ch/dhdf/index.php/Attachme
 nt/126/
DTEND:20190930T070000Z
END:VEVENT
BEGIN:VEVENT
TRANSP:OPAQUE
UID:event-86@skc.ch
URL:https://skc.ch/dhdf/calendar/index.php/Event/4320-Hobnanigans/
DTSTART:20191003T140000Z
DTSTAMP:20191003T140000Z
CREATED:20191003T140000Z
SUMMARY:Hobnanigans
DESCRIPTION:Hobnanigans\nDonnerstag\, 3. Oktober 2019\, 16:00 - Montag\, 7.
  Oktober 2019\, 09:00\n\n\nskc.ch/dhdf/index.php/Attachment/127/
DTEND:20191007T070000Z
END:VEVENT
BEGIN:VEVENT
TRANSP:OPAQUE
UID:event-88@skc.ch
URL:https://skc.ch/dhdf/calendar/index.php/Event/4322-Vip-Wochende/
DTSTART:20191010T140000Z
DTSTAMP:20191010T140000Z
CREATED:20191010T140000Z
SUMMARY:Vip-Wochende
DESCRIPTION:Vip-Wochende\nDonnerstag\, 10. Oktober 2019\, 16:00 - Dienstag\
 , 15. Oktober 2019\, 09:00\n\n\nskc.ch/dhdf/index.php/Attachment/129/
DTEND:20191015T070000Z
END:VEVENT
BEGIN:VEVENT
TRANSP:OPAQUE
UID:event-89@skc.ch
URL:https://skc.ch/dhdf/calendar/index.php/Event/4323-Durin-s-Day/
DTSTART:20191018T140000Z
DTSTAMP:20191018T140000Z
CREATED:20191018T140000Z
SUMMARY:Durin`s Day
DESCRIPTION:Durin`s Day\n\nFreitag\, 18. Oktober 2019\, 16:00 - Dienstag\, 
 22. Oktober 2019\, 09:00\n\n\nskc.ch/dhdf/index.php/Attachment/130/
DTEND:20191022T070000Z
END:VEVENT
BEGIN:VEVENT
TRANSP:OPAQUE
UID:event-90@skc.ch
URL:https://skc.ch/dhdf/calendar/index.php/Event/4324-25-Crafting-Boost/
DTSTART:20191107T150000Z
DTSTAMP:20191107T150000Z
CREATED:20191107T150000Z
SUMMARY:25% Crafting Boost
DESCRIPTION:25% Crafting Boost\nDonnerstag\, 7. November 2019\, 16:00 - Die
 nstag\, 12. November 2019\, 09:00\n\n\nskc.ch/dhdf/index.php/Attachment/131
 /
DTEND:20191112T080000Z
END:VEVENT
BEGIN:VEVENT
TRANSP:OPAQUE
UID:event-91@skc.ch
URL:https://skc.ch/dhdf/calendar/index.php/Event/4325-10-Aschen-Bonus/
DTSTART:20191107T150000Z
DTSTAMP:20191107T150000Z
CREATED:20191107T150000Z
SUMMARY:10% Aschen Bonus
DESCRIPTION:10% Aschen Bonus\nDonnerstag\, 7. November 2019\, 16:00 - Diens
 tag\, 12. November 2019\, 09:00\n\n\nNUR AUS KISTEN (Schwarze-Schlüssel)\n\
 nskc.ch/dhdf/index.php/Attachment/132/
DTEND:20191112T080000Z
END:VEVENT
BEGIN:VEVENT
TRANSP:OPAQUE
UID:event-92@skc.ch
URL:https://skc.ch/dhdf/calendar/index.php/Event/4326-Willkommen-zur%C3%BCc
 k-WE/
DTSTART:20191121T150000Z
DTSTAMP:20191121T150000Z
CREATED:20191121T150000Z
SUMMARY:Willkommen zurück WE
DESCRIPTION:Willkommen zurück WE\nDonnerstag\, 21. November 2019\, 16:00 - 
 Montag\, 25. November 2019\, 09:00\n\n\nskc.ch/dhdf/index.php/Attachment/13
 3/
DTEND:20191125T080000Z
END:VEVENT
BEGIN:VEVENT
TRANSP:OPAQUE
UID:event-93@skc.ch
URL:https://skc.ch/dhdf/calendar/index.php/Event/4327-Hobnanigans/
DTSTART:20191205T150000Z
DTSTAMP:20191205T150000Z
CREATED:20191205T150000Z
SUMMARY:Hobnanigans
DESCRIPTION:Hobnanigans\nDonnerstag\, 5. Dezember 2019\, 16:00 - Montag\, 9
 . Dezember 2019\, 09:00\n\n\nskc.ch/dhdf/index.php/Attachment/134/
DTEND:20191209T080000Z
END:VEVENT
BEGIN:VEVENT
TRANSP:OPAQUE
UID:event-94@skc.ch
URL:https://skc.ch/dhdf/calendar/index.php/Event/4328-Vip-Wochende/
DTSTART:20191227T150000Z
DTSTAMP:20191227T150000Z
CREATED:20191227T150000Z
SUMMARY:Vip-Wochende
DESCRIPTION:Vip-Wochende\nFreitag\, 27. Dezember 2019\, 16:00 - Donnerstag\
 , 2. Januar 2020\, 09:00\n\n\nskc.ch/dhdf/index.php/Attachment/135/
DTEND:20200102T080000Z
END:VEVENT
BEGIN:VEVENT
TRANSP:OPAQUE
UID:event-163@skc.ch
URL:https://skc.ch/dhdf/calendar/index.php/Event/4403-Willkommen-zur%C3%BCc
 k-Wochen-Ende/
DTSTART:20200130T150000Z
DTSTAMP:20200130T150000Z
CREATED:20200130T150000Z
SUMMARY:Willkommen zurück Wochen-Ende
DESCRIPTION:Willkommen zurück Wochen-Ende\nDonnerstag\, 30. Januar 2020\, 1
 6:00 - Montag\, 3. Februar 2020\, 09:00\n\n&amp\; 25% Erfahrungs-Punkte (EP
 )
DTEND:20200203T080000Z
END:VEVENT
BEGIN:VEVENT
TRANSP:OPAQUE
UID:event-164@skc.ch
URL:https://skc.ch/dhdf/calendar/index.php/Event/4404-Hobnanigans/
DTSTART:20200206T150000Z
DTSTAMP:20200206T150000Z
CREATED:20200206T150000Z
SUMMARY:Hobnanigans
DESCRIPTION:Hobnanigans\nDonnerstag\, 6. Februar 2020\, 16:00 - Montag\, 10
 . Februar 2020\, 09:00
DTEND:20200210T080000Z
END:VEVENT
BEGIN:VEVENT
TRANSP:OPAQUE
UID:event-165@skc.ch
URL:https://skc.ch/dhdf/calendar/index.php/Event/4405-Scharm%C3%BCtzel-Even
 t/
DTSTART:20200219T150000Z
DTSTAMP:20200219T150000Z
CREATED:20200219T150000Z
SUMMARY:Scharmützel-Event
DESCRIPTION:Scharmützel-Event\nMittwoch\, 19. Februar 2020\, 16:00 - Donner
 stag\, 19. März 2020\, 09:00
DTEND:20200319T080000Z
END:VEVENT
BEGIN:VEVENT
TRANSP:OPAQUE
UID:event-166@skc.ch
URL:https://skc.ch/dhdf/calendar/index.php/Event/4406-25-Scharm%C3%BCtzel-Z
 eichen/
DTSTART:20200220T150000Z
DTSTAMP:20200220T150000Z
CREATED:20200220T150000Z
SUMMARY:& 25% Scharmützel-Zeichen
DESCRIPTION:&amp\; 25% Scharmützel-Zeichen\nDonnerstag\, 20. Februar 2020\,
  16:00 - Montag\, 24. Februar 2020\, 09:00
DTEND:20200224T080000Z
END:VEVENT
BEGIN:VEVENT
TRANSP:OPAQUE
UID:event-167@skc.ch
URL:https://skc.ch/dhdf/calendar/index.php/Event/4407-VIP-Event/
DTSTART:20200305T150000Z
DTSTAMP:20200305T150000Z
CREATED:20200305T150000Z
SUMMARY:VIP Event
DESCRIPTION:VIP Event\nDonnerstag\, 5. März 2020\, 16:00 - Montag\, 9. März
  2020\, 09:00
DTEND:20200309T080000Z
END:VEVENT
BEGIN:VEVENT
TRANSP:OPAQUE
UID:event-169@skc.ch
URL:https://skc.ch/dhdf/calendar/index.php/Event/4409-10-Tugend-XP/
DTSTART:20200326T150000Z
DTSTAMP:20200326T150000Z
CREATED:20200326T150000Z
SUMMARY:+ 10% Tugend XP
DESCRIPTION:- Onkel Hiti's Private HdRO / Lotro Webseite »\n- Kalender »\n\
 n\n+ 10% Tugend XP\n\nMittwoch\, 26. Februar 2020\, 16:00 - Montag\, 30. Mä
 rz 2020\, 09:00
DTEND:20200330T070000Z
END:VEVENT
BEGIN:VEVENT
TRANSP:OPAQUE
UID:event-183@skc.ch
URL:https://skc.ch/dhdf/calendar/index.php/Event/4460-Hobnanigans/
DTSTART:20200604T140000Z
DTSTAMP:20200604T140000Z
CREATED:20200604T140000Z
SUMMARY:Hobnanigans
DESCRIPTION:Hobnanigans
DTEND:20200608T070000Z
END:VEVENT
END:VCALENDAR
