BEGIN:VCALENDAR
METHOD:PUBLISH
VERSION:2.0
PRODID:-//WoltLab GmbH//WoltLab Calendar 2.0//EN
CALSCALE:GREGORIAN
X-WR-CALNAME;VALUE=TEXT:Empfohlene Instanz
BEGIN:VEVENT
TRANSP:OPAQUE
UID:event-3@skc.ch
URL:https://skc.ch/dhdf/calendar/index.php/Event/3-Feste-Dunhoth-Krankheite
 n-und-Gifte/?s=24a407b924d1346cb408f7fad927aac63f83a257
DTSTART:20170116T150000Z
DTSTAMP:20170116T150000Z
CREATED:20170116T150000Z
SUMMARY:Feste Dunhoth "Krankheiten und Gifte"
DESCRIPTION:Feste Dunhoth &quot\;Krankheiten und Gifte&quot\;\nbenütigt ls 
 Freischaltung\nFeste Dunhoth &quot\;Wunden und Furcht&quot\;
DTEND:20170123T145900Z
END:VEVENT
BEGIN:VEVENT
TRANSP:OPAQUE
UID:event-5@skc.ch
URL:https://skc.ch/dhdf/calendar/index.php/Event/5-Fornost-Erdgeist-6er-Ins
 tanz/?s=24a407b924d1346cb408f7fad927aac63f83a257
DTSTART:20170320T140000Z
DTSTAMP:20170320T140000Z
CREATED:20170320T140000Z
SUMMARY:Fornost Erdgeist 6er Instanz
DESCRIPTION:Fornost Erdgeist\nStart : 20. März 2017 15:00\nEnde : 27. März 
 2017 16:00
LOCATION:HdRO / Lotro
DTEND:20170327T140000Z
END:VEVENT
BEGIN:VEVENT
TRANSP:OPAQUE
UID:event-7@skc.ch
URL:https://skc.ch/dhdf/calendar/index.php/Event/7-Sitz-des-Gro%C3%9Fen-Bil
 wiss-3er-Instanz/?s=24a407b924d1346cb408f7fad927aac63f83a257
DTSTART:20170327T140000Z
DTSTAMP:20170327T140000Z
CREATED:20170327T140000Z
SUMMARY:Sitz des Großen Bilwiss 3er Instanz
DESCRIPTION:Sitz des Großen Bilwiss\nStart : 27. März 2017 16:00\nEnde : 03
 . APRIL 2017 16:00
LOCATION:HdRO / Lotro
DTEND:20170403T140000Z
END:VEVENT
BEGIN:VEVENT
TRANSP:OPAQUE
UID:event-8@skc.ch
URL:https://skc.ch/dhdf/calendar/index.php/Event/8-Schwerthalle-3er-Instanz
 /?s=24a407b924d1346cb408f7fad927aac63f83a257
DTSTART:20170403T140000Z
DTSTAMP:20170403T140000Z
CREATED:20170403T140000Z
SUMMARY:Schwerthalle 3er Instanz
DESCRIPTION:Schwerthalle 3er Instanz\nStart : 03. APRIL 2017 16:00\nEnde : 
 10. APRIL 2017 16:00
DTEND:20170410T140000Z
END:VEVENT
BEGIN:VEVENT
TRANSP:OPAQUE
UID:event-12@skc.ch
URL:https://skc.ch/dhdf/calendar/index.php/Event/12-Flucht-zum-Einsamen-Ber
 g-12er-Instanz/?s=24a407b924d1346cb408f7fad927aac63f83a257
DTSTART:20170410T140000Z
DTSTAMP:20170410T140000Z
CREATED:20170410T140000Z
SUMMARY:Flucht zum Einsamen Berg 12er Instanz
DESCRIPTION:Flucht zum Einsamen Berg 12er Instanz\nStart : 10. APRIL 2017 1
 6:00\nEnde : 17. APRIL 2017 16:00
DTEND:20170417T140000Z
END:VEVENT
BEGIN:VEVENT
TRANSP:OPAQUE
UID:event-13@skc.ch
URL:https://skc.ch/dhdf/calendar/index.php/Event/13-Verlorener-Tempel-6er-I
 nstanz/?s=24a407b924d1346cb408f7fad927aac63f83a257
DTSTART:20170417T140000Z
DTSTAMP:20170417T140000Z
CREATED:20170417T140000Z
SUMMARY:Verlorener Tempel 6er Instanz
DESCRIPTION:Verlorener Tempel 6er Instanz\nStart : 17. APRIL 2017 16:00\nEn
 de : 24. APRIL 2017 16:00
DTEND:20170424T140000Z
END:VEVENT
BEGIN:VEVENT
TRANSP:OPAQUE
UID:event-14@skc.ch
URL:https://skc.ch/dhdf/calendar/index.php/Event/14-Anuminas-Glinghand-6er-
 Instanz/?s=24a407b924d1346cb408f7fad927aac63f83a257
DTSTART:20170424T140000Z
DTSTAMP:20170424T140000Z
CREATED:20170424T140000Z
SUMMARY:Anuminas Glinghand 6er Instanz
DESCRIPTION:Anuminas Glinghand 6er Instanz\nStart : 24. APRIL 2017 16:00\nE
 nde : 01. MAI 2017 16:00
DTEND:20170501T140000Z
END:VEVENT
BEGIN:VEVENT
TRANSP:OPAQUE
UID:event-16@skc.ch
URL:https://skc.ch/dhdf/calendar/index.php/Event/16-Sitz-des-Gro%C3%9Fen-Bi
 lwiss-3er-Instanz/?s=24a407b924d1346cb408f7fad927aac63f83a257
DTSTART:20170508T140000Z
DTSTAMP:20170508T140000Z
CREATED:20170508T140000Z
SUMMARY:Sitz des Großen Bilwiss 3er Instanz
DESCRIPTION:Sitz des Großen Bilwiss3er Instanz\nStart : 08. Mai 2017 16:00\
 nEnde : 15. Mai  2017 16:00
DTEND:20170515T140000Z
END:VEVENT
BEGIN:VEVENT
TRANSP:OPAQUE
UID:event-17@skc.ch
URL:https://skc.ch/dhdf/calendar/index.php/Event/17-Fornost-Erdgeist-6er-In
 stanz/?s=24a407b924d1346cb408f7fad927aac63f83a257
DTSTART:20170501T140000Z
DTSTAMP:20170501T140000Z
CREATED:20170501T140000Z
SUMMARY:Fornost Erdgeist 6er Instanz
DESCRIPTION:Fornost Erdgeist 6er Instanz\nStart : 01.Mai 2017 16:00\nEnde :
  08.Mai 2017 16:00
DTEND:20170508T140000Z
END:VEVENT
BEGIN:VEVENT
TRANSP:OPAQUE
UID:event-162@skc.ch
URL:https://skc.ch/dhdf/calendar/index.php/Event/4402-W%C3%B6chentlicher-Ru
 f-instanzen-Bonus-Reset/?s=24a407b924d1346cb408f7fad927aac63f83a257
DTSTART:20200109T080000Z
DTSTAMP:20200109T080000Z
CREATED:20200109T080000Z
SUMMARY:Wöchentlicher Ruf instanzen Bonus Reset
DESCRIPTION:Wöchentlicher Ruf instanzen Bonus Reset
DTEND:20200109T080500Z
RRULE:FREQ=WEEKLY;INTERVAL=1;BYDAY=TH;WKST=MO;UNTIL=20191231
END:VEVENT
END:VCALENDAR
