BEGIN:VCALENDAR
METHOD:PUBLISH
VERSION:2.0
PRODID:-//WoltLab GmbH//WoltLab Calendar 2.0//EN
CALSCALE:GREGORIAN
X-WR-CALNAME;VALUE=TEXT:NDW - Daylis
BEGIN:VEVENT
TRANSP:TRANSPARENT
UID:event-25@skc.ch
URL:https://skc.ch/dhdf/calendar/index.php/Event/2065-NDW-Daylis-2/
DTSTART;VALUE=DATE:20180315
DTSTAMP:20180315T000000Z
CREATED:20180315T000000Z
SUMMARY:NDW - Daylis - 2
DESCRIPTION:von 09:00 bis folge Tag 08:59\nfolgende 8 Nord-Düsterwald Quest
 s\n002.png
DTEND;VALUE=DATE:20180316
END:VEVENT
END:VCALENDAR
