BEGIN:VCALENDAR
METHOD:PUBLISH
VERSION:2.0
PRODID:-//WoltLab GmbH//WoltLab Calendar 2.0//EN
CALSCALE:GREGORIAN
X-WR-CALNAME;VALUE=TEXT:HdRO / Lotro-Zahltag
BEGIN:VEVENT
TRANSP:TRANSPARENT
UID:event-33@skc.ch
URL:https://skc.ch/dhdf/calendar/index.php/Event/2829-Monatlicher-Lotro-Vip
 -Bonus-500-Shop-Punkte/
DTSTART;VALUE=DATE:20180601
DTSTAMP:20180601T000000Z
CREATED:20180601T000000Z
SUMMARY:Monatlicher Lotro-Vip-Bonus (+500 Shop-Punkte)
DESCRIPTION:Monatlicher Lotro-Vip-Bonus (+500 Shop-Punkte)\n\nskc.ch/dhdf/i
 ndex.php/Attachment/96/
DTEND;VALUE=DATE:20180602
RRULE:FREQ=MONTHLY;INTERVAL=1;BYMONTHDAY=1;WKST=MO
END:VEVENT
BEGIN:VEVENT
TRANSP:OPAQUE
UID:event-101@skc.ch
URL:https://skc.ch/dhdf/calendar/index.php/Event/4336-Monatlicher-Lotro-Vip
 -Bonus-500-Shop-Punkte/
DTSTART:20191231T230000Z
DTSTAMP:20191231T230000Z
CREATED:20191231T230000Z
SUMMARY:Monatlicher Lotro-Vip-Bonus (+500 Shop-Punkte)
DESCRIPTION:Monatlicher Lotro-Vip-Bonus (+500 Shop-Punkte)\nskc.ch/dhdf/ind
 ex.php/Attachment/143/
DTEND:20200101T225900Z
END:VEVENT
BEGIN:VEVENT
TRANSP:TRANSPARENT
UID:event-156@skc.ch
URL:https://skc.ch/dhdf/calendar/index.php/Event/4391-Monatlicher-Lotro-Vip
 -Bonus-500-Shop-Punkte/
DTSTART;VALUE=DATE:20200201
DTSTAMP:20200201T000000Z
CREATED:20200201T000000Z
SUMMARY:Monatlicher Lotro-Vip-Bonus (+500 Shop-Punkte)
DESCRIPTION:Monatlicher Lotro-Vip-Bonus (+500 Shop-Punkte)
DTEND;VALUE=DATE:20200202
END:VEVENT
BEGIN:VEVENT
TRANSP:OPAQUE
UID:event-157@skc.ch
URL:https://skc.ch/dhdf/calendar/index.php/Event/4392-Monatlicher-Lotro-Vip
 -Bonus-500-Shop-Punkte/
DTSTART:20200301T120200Z
DTSTAMP:20200301T120200Z
CREATED:20200301T120200Z
SUMMARY:Monatlicher Lotro-Vip-Bonus (+500 Shop-Punkte)
DESCRIPTION:Monatlicher Lotro-Vip-Bonus (+500 Shop-Punkte) \nskc.ch/dhdf/in
 dex.php/Attachment/143-ssg-coin-lotro-jpg\n\n
DTEND:20200301T120200Z
END:VEVENT
BEGIN:VEVENT
TRANSP:OPAQUE
UID:event-158@skc.ch
URL:https://skc.ch/dhdf/calendar/index.php/Event/4393-Monatlicher-Lotro-Vip
 -Bonus-500-Shop-Punkte/
DTSTART:20200401T110300Z
DTSTAMP:20200401T110300Z
CREATED:20200401T110300Z
SUMMARY:Monatlicher Lotro-Vip-Bonus (+500 Shop-Punkte)
DESCRIPTION:Monatlicher Lotro-Vip-Bonus (+500 Shop-Punkte) \nskc.ch/dhdf/in
 dex.php/Attachment/143-ssg-coin-lotro-jpg\n\n
DTEND:20200401T110300Z
END:VEVENT
BEGIN:VEVENT
TRANSP:OPAQUE
UID:event-159@skc.ch
URL:https://skc.ch/dhdf/calendar/index.php/Event/4394-Monatlicher-Lotro-Vip
 -Bonus-500-Shop-Punkte/
DTSTART:20200501T110300Z
DTSTAMP:20200501T110300Z
CREATED:20200501T110300Z
SUMMARY:Monatlicher Lotro-Vip-Bonus (+500 Shop-Punkte)
DESCRIPTION:Monatlicher Lotro-Vip-Bonus (+500 Shop-Punkte) \nskc.ch/dhdf/in
 dex.php/Attachment/143-ssg-coin-lotro-jpg\n\n
DTEND:20200501T110300Z
END:VEVENT
BEGIN:VEVENT
TRANSP:TRANSPARENT
UID:event-160@skc.ch
URL:https://skc.ch/dhdf/calendar/index.php/Event/4395-Monatlicher-Lotro-Vip
 -Bonus-500-Shop-Punkte/
DTSTART;VALUE=DATE:20200601
DTSTAMP:20200601T000000Z
CREATED:20200601T000000Z
SUMMARY:Monatlicher Lotro-Vip-Bonus (+500 Shop-Punkte)
DESCRIPTION:Monatlicher Lotro-Vip-Bonus (+500 Shop-Punkte)\n143-ssg-coin-lo
 tro-jpg
DTEND;VALUE=DATE:20200602
END:VEVENT
BEGIN:VEVENT
TRANSP:OPAQUE
UID:event-161@skc.ch
URL:https://skc.ch/dhdf/calendar/index.php/Event/4396-Monatlicher-Lotro-Vip
 -Bonus-500-Shop-Punkte/
DTSTART:20190701T060000Z
DTSTAMP:20190701T060000Z
CREATED:20190701T060000Z
SUMMARY:Monatlicher Lotro-Vip-Bonus (+500 Shop-Punkte)
DESCRIPTION:Monatlicher Lotro-Vip-Bonus (+500 Shop-Punkte)
DTEND:20190701T180000Z
RRULE:FREQ=MONTHLY;INTERVAL=1;BYMONTHDAY=1;WKST=MO
END:VEVENT
BEGIN:VEVENT
TRANSP:TRANSPARENT
UID:event-170@skc.ch
URL:https://skc.ch/dhdf/calendar/index.php/Event/4410-Monatlicher-Lotro-Vip
 -Bonus/
DTSTART;VALUE=DATE:20180801
DTSTAMP:20180801T000000Z
CREATED:20180801T000000Z
SUMMARY:Monatlicher Lotro-Vip-Bonus
DESCRIPTION:Monatlicher Lotro-Vip-Bonus (+500 Shop-Punkte)
DTEND;VALUE=DATE:20180802
RRULE:FREQ=MONTHLY;INTERVAL=1;BYMONTHDAY=1;WKST=MO;COUNT=24
END:VEVENT
BEGIN:VEVENT
TRANSP:TRANSPARENT
UID:event-171@skc.ch
URL:https://skc.ch/dhdf/calendar/index.php/Event/4427-Monatlicher-Lotro-Vip
 -Bonus/
DTSTART;VALUE=DATE:20180801
DTSTAMP:20180801T000000Z
CREATED:20180801T000000Z
SUMMARY:Monatlicher Lotro-Vip-Bonus
DESCRIPTION:Monatlicher Lotro-Vip-Bonus (+500 Shop-Punkte)
DTEND;VALUE=DATE:20180802
RRULE:FREQ=MONTHLY;INTERVAL=1;BYMONTHDAY=1;WKST=MO;COUNT=24
END:VEVENT
BEGIN:VEVENT
TRANSP:OPAQUE
UID:event-172@skc.ch
URL:https://skc.ch/dhdf/calendar/index.php/Event/4444-Monatlicher-Lotro-Vip
 -Bonus-500-Shop-Punkte/
DTSTART:20190701T060000Z
DTSTAMP:20190701T060000Z
CREATED:20190701T060000Z
SUMMARY:Monatlicher Lotro-Vip-Bonus (+500 Shop-Punkte)
DESCRIPTION:Monatlicher Lotro-Vip-Bonus (+500 Shop-Punkte)
DTEND:20190701T180000Z
RRULE:FREQ=MONTHLY;INTERVAL=1;BYMONTHDAY=1;WKST=MO
END:VEVENT
BEGIN:VEVENT
TRANSP:TRANSPARENT
UID:event-173@skc.ch
URL:https://skc.ch/dhdf/calendar/index.php/Event/4450-Monatlicher-Lotro-Vip
 -Bonus-500-Shop-Punkte/
DTSTART;VALUE=DATE:20200701
DTSTAMP:20200701T000000Z
CREATED:20200701T000000Z
SUMMARY:Monatlicher Lotro-Vip-Bonus (+500 Shop-Punkte)
DESCRIPTION:Monatlicher Lotro-Vip-Bonus (+500 Shop-Punkte)\n143-ssg-coin-lo
 tro-jpg
DTEND;VALUE=DATE:20200702
END:VEVENT
BEGIN:VEVENT
TRANSP:TRANSPARENT
UID:event-174@skc.ch
URL:https://skc.ch/dhdf/calendar/index.php/Event/4451-Monatlicher-Lotro-Vip
 -Bonus-500-Shop-Punkte/
DTSTART;VALUE=DATE:20200801
DTSTAMP:20200801T000000Z
CREATED:20200801T000000Z
SUMMARY:Monatlicher Lotro-Vip-Bonus (+500 Shop-Punkte)
DESCRIPTION:Monatlicher Lotro-Vip-Bonus (+500 Shop-Punkte)\n143-ssg-coin-lo
 tro-jpg
DTEND;VALUE=DATE:20200802
END:VEVENT
BEGIN:VEVENT
TRANSP:TRANSPARENT
UID:event-175@skc.ch
URL:https://skc.ch/dhdf/calendar/index.php/Event/4452-Monatlicher-Lotro-Vip
 -Bonus-500-Shop-Punkte/
DTSTART;VALUE=DATE:20200901
DTSTAMP:20200901T000000Z
CREATED:20200901T000000Z
SUMMARY:Monatlicher Lotro-Vip-Bonus (+500 Shop-Punkte)
DESCRIPTION:Monatlicher Lotro-Vip-Bonus (+500 Shop-Punkte)\n143-ssg-coin-lo
 tro-jpg
DTEND;VALUE=DATE:20200902
END:VEVENT
BEGIN:VEVENT
TRANSP:TRANSPARENT
UID:event-176@skc.ch
URL:https://skc.ch/dhdf/calendar/index.php/Event/4453-Monatlicher-Lotro-Vip
 -Bonus-500-Shop-Punkte/
DTSTART;VALUE=DATE:20201001
DTSTAMP:20201001T000000Z
CREATED:20201001T000000Z
SUMMARY:Monatlicher Lotro-Vip-Bonus (+500 Shop-Punkte)
DESCRIPTION:Monatlicher Lotro-Vip-Bonus (+500 Shop-Punkte)\n143-ssg-coin-lo
 tro-jpg
DTEND;VALUE=DATE:20201002
END:VEVENT
BEGIN:VEVENT
TRANSP:TRANSPARENT
UID:event-177@skc.ch
URL:https://skc.ch/dhdf/calendar/index.php/Event/4454-Monatlicher-Lotro-Vip
 -Bonus-500-Shop-Punkte/
DTSTART;VALUE=DATE:20201101
DTSTAMP:20201101T000000Z
CREATED:20201101T000000Z
SUMMARY:Monatlicher Lotro-Vip-Bonus (+500 Shop-Punkte)
DESCRIPTION:Monatlicher Lotro-Vip-Bonus (+500 Shop-Punkte)\n143-ssg-coin-lo
 tro-jpg
DTEND;VALUE=DATE:20201102
END:VEVENT
BEGIN:VEVENT
TRANSP:TRANSPARENT
UID:event-178@skc.ch
URL:https://skc.ch/dhdf/calendar/index.php/Event/4455-Monatlicher-Lotro-Vip
 -Bonus-500-Shop-Punkte/
DTSTART;VALUE=DATE:20201201
DTSTAMP:20201201T000000Z
CREATED:20201201T000000Z
SUMMARY:Monatlicher Lotro-Vip-Bonus (+500 Shop-Punkte)
DESCRIPTION:Monatlicher Lotro-Vip-Bonus (+500 Shop-Punkte)\n143-ssg-coin-lo
 tro-jpg
DTEND;VALUE=DATE:20201202
END:VEVENT
END:VCALENDAR
