BEGIN:VCALENDAR
METHOD:PUBLISH
VERSION:2.0
PRODID:-//WoltLab GmbH//WoltLab Calendar 2.0//EN
CALSCALE:GREGORIAN
X-WR-CALNAME;VALUE=TEXT:HdRO / Lotro-Support
BEGIN:VEVENT
TRANSP:OPAQUE
UID:event-65@skc.ch
URL:https://skc.ch/dhdf/calendar/index.php/Event/3918-Zeit-Umstellung-auf-S
 ommerzeit/
DTSTART:20190310T070000Z
DTSTAMP:20190310T070000Z
CREATED:20190310T070000Z
SUMMARY:Zeit-Umstellung auf Sommerzeit
DESCRIPTION:\nUSA -&gt\; Sommerzeit -&gt\; Sonntag 10.03.2019 bis EU -&gt\;
  Sommerzeit -&gt\; Sonntag 31.03.2019 \n-----------------------------------
 -------------------------------------------------------------\ndas heisst: 
 vom 10.03.2019 bis und mit 31.03.2019 \n-----------------------------------
 -------------------------------------------------------------\nHdRO-Daliy &
 amp\; Bündnis-Reset: 08:00\nHdRO-Daily-HW-Instanz-Reset 11:00 \n\n\n
DTEND:20190331T010000Z
END:VEVENT
BEGIN:VEVENT
TRANSP:OPAQUE
UID:event-70@skc.ch
URL:https://skc.ch/dhdf/calendar/index.php/Event/3967-Kein-HdRO-Game-Server
 -Neustart-am-05-03-2019/
DTSTART:20190305T132900Z
DTSTAMP:20190305T132900Z
CREATED:20190305T132900Z
SUMMARY:Kein HdRO-Game-Server-Neustart am 05.03.2019
DESCRIPTION:Kein HdRO-Game-Server-Neustart am 05.03.2019\,\nes gibt ein Hot
 fix am 04.03.2019 und eine 22 Std Server-Wartung am 06.03.2019
DTEND:20190305T143000Z
END:VEVENT
BEGIN:VEVENT
TRANSP:OPAQUE
UID:event-71@skc.ch
URL:https://skc.ch/dhdf/calendar/index.php/Event/3968-22-Stunden-Hdro-Serve
 r-Wartungs-Marathon/
DTSTART:20190306T070000Z
DTSTAMP:20190306T070000Z
CREATED:20190306T070000Z
SUMMARY:22 Stunden Hdro-Server-Wartungs-Marathon
DESCRIPTION:22 Stunden Wartungs-Marathon\nHerr der Ringe &quot\;OFFLINE&quo
 t\; \nMittwoch 06.03.2019 ab ca 08:00\nbis\nHerr der Ringe &quot\;ONLINE&qu
 ot\;\nDonnerstag 07.03.2019 ca 06:00\n
DTEND:20190307T050000Z
END:VEVENT
BEGIN:VEVENT
TRANSP:OPAQUE
UID:event-98@skc.ch
URL:https://skc.ch/dhdf/calendar/index.php/Event/4332-Zeitumstellung-EU-Win
 terzeit-bis-USA-Winterzeit/
DTSTART:20191027T010000Z
DTSTAMP:20191027T010000Z
CREATED:20191027T010000Z
SUMMARY:Zeitumstellung EU -> Winterzeit bis USA -> Winterzeit
DESCRIPTION:EU -&gt\; Winterzeit -&gt\; Sonntag 27.10.2019\nUSA -&gt\; Wint
 erzeit -&gt\; Sonntag 03.11.2019 \n----------------------------------------
 -------------------------------------------------------\nStellen Sie Ihre U
 hren am Sonntag\, den 27.10.2019\nnach 03:00 Uhr um 1 Stunde zurück! (von 0
 3:00 auf 02:00)\n----------------------------------------------------------
 -------------------------------------\ndas heisst: vom 27.10.2019 bis und m
 it 02.11.2019\nHdRO-Daliy &amp\; Bündnis-Reset: 08:00\nHdRO-Daily-HW-Instan
 z-Reset 11:00 \n-----------------------------------------------------------
 ------------------------------------\nab 03.11.2019 läuft alles wieder zur 
 gewohnten Zeit\n\n
DTEND:20191102T230000Z
END:VEVENT
BEGIN:VEVENT
TRANSP:OPAQUE
UID:event-99@skc.ch
URL:https://skc.ch/dhdf/calendar/index.php/Event/4333-W%C3%B6chentlicher-Hd
 RO-Lotro-Server-Neustaer/
DTSTART:20191224T070000Z
DTSTAMP:20191224T070000Z
CREATED:20191224T070000Z
SUMMARY:Wöchentlicher HdRO / Lotro Server Neustaer
DESCRIPTION:\nJeden Dienstag von ca 13:00 bis ca 14:00 Uhr\noder von ca 14:
 00 bis ca 15:00\noder von ca 15:00 bis ca 16:00\nje nach Lust und Laune von
  SSG\nHerr der Ringe OFFLINE (Grund : Server-Neustart)\nIst ein Update gepl
 ant\, entfällt der Server-Neustart !!!\n
DTEND:20191224T190000Z
RRULE:FREQ=WEEKLY;INTERVAL=1;BYDAY=TU;WKST=MO
END:VEVENT
BEGIN:VEVENT
TRANSP:OPAQUE
UID:event-102@skc.ch
URL:https://skc.ch/dhdf/calendar/index.php/Event/4337-W%C3%B6chentlicher-Hd
 RO-Lotro-Server-Neustart/
DTSTART:20200107T120000Z
DTSTAMP:20200107T120000Z
CREATED:20200107T120000Z
SUMMARY:Wöchentlicher HdRO / Lotro Server Neustart
DESCRIPTION:\nJeden Dienstag von ca 13:00 bis ca 14:00 Uhr\noder von ca 14:
 00 bis ca 15:00\noder von ca 15:00 bis ca 16:00\nje nach Lust und Laune von
  SSG\nHerr der Ringe OFFLINE (Grund : Server-Neustart)\nIst ein Update gepl
 ant\, entfällt der Server-Neustart !!!\n
DTEND:20200107T150000Z
END:VEVENT
BEGIN:VEVENT
TRANSP:OPAQUE
UID:event-103@skc.ch
URL:https://skc.ch/dhdf/calendar/index.php/Event/4338-W%C3%B6chentlicher-Hd
 RO-Lotro-Server-Neustart/
DTSTART:20200114T130000Z
DTSTAMP:20200114T130000Z
CREATED:20200114T130000Z
SUMMARY:Wöchentlicher HdRO / Lotro Server Neustart
DESCRIPTION:tester
DTEND:20200114T150000Z
RRULE:FREQ=WEEKLY;INTERVAL=1;BYDAY=TU;WKST=MO
END:VEVENT
BEGIN:VEVENT
TRANSP:OPAQUE
UID:event-106@skc.ch
URL:https://skc.ch/dhdf/calendar/index.php/Event/4341-W%C3%B6chentlicher-Hd
 RO-Lotro-Server-Neustart/
DTSTART:20200204T130000Z
DTSTAMP:20200204T130000Z
CREATED:20200204T130000Z
SUMMARY:Wöchentlicher HdRO / Lotro Server Neustart
DESCRIPTION:Jeden Dienstag von ca 13:00 bis ca 14:00 Uhr \n oder von ca 14:
 00 bis ca 15:00 \n oder von ca 15:00 bis ca 16:00 \n je nach Lust und Laune
  von SSG \n Herr der Ringe OFFLINE (Grund : Server-Neustart) \n Ist ein Upd
 ate geplant\, entfällt der Server-Neustart !!!\n\n
DTEND:20200204T130000Z
END:VEVENT
BEGIN:VEVENT
TRANSP:OPAQUE
UID:event-107@skc.ch
URL:https://skc.ch/dhdf/calendar/index.php/Event/4342-W%C3%B6chentlicher-Hd
 RO-Lotro-Server-Neustart/
DTSTART:20200121T130000Z
DTSTAMP:20200121T130000Z
CREATED:20200121T130000Z
SUMMARY:Wöchentlicher HdRO / Lotro Server Neustart
DESCRIPTION:Jeden Dienstag von ca 13:00 bis ca 14:00 Uhr \n oder von ca 14:
 00 bis ca 15:00 \n oder von ca 15:00 bis ca 16:00 \n je nach Lust und Laune
  von SSG \n Herr der Ringe OFFLINE (Grund : Server-Neustart) \n Ist ein Upd
 ate geplant\, entfällt der Server-Neustart !!!\n\n
DTEND:20200121T150000Z
END:VEVENT
BEGIN:VEVENT
TRANSP:OPAQUE
UID:event-108@skc.ch
URL:https://skc.ch/dhdf/calendar/index.php/Event/4343-W%C3%B6chentlicher-Hd
 RO-Lotro-Server-Neustart/
DTSTART:20200128T130000Z
DTSTAMP:20200128T130000Z
CREATED:20200128T130000Z
SUMMARY:Wöchentlicher HdRO / Lotro Server Neustart
DESCRIPTION:Jeden Dienstag von ca 13:00 bis ca 14:00 Uhr \n oder von ca 14:
 00 bis ca 15:00 \n oder von ca 15:00 bis ca 16:00 \n je nach Lust und Laune
  von SSG \n Herr der Ringe OFFLINE (Grund : Server-Neustart) \n Ist ein Upd
 ate geplant\, entfällt der Server-Neustart !!!\n\n
DTEND:20200128T130000Z
END:VEVENT
BEGIN:VEVENT
TRANSP:OPAQUE
UID:event-110@skc.ch
URL:https://skc.ch/dhdf/calendar/index.php/Event/4345-W%C3%B6chentlicher-Hd
 RO-Lotro-Server-Neustart/
DTSTART:20200211T130000Z
DTSTAMP:20200211T130000Z
CREATED:20200211T130000Z
SUMMARY:Wöchentlicher HdRO / Lotro Server Neustart
DESCRIPTION:Jeden Dienstag von ca 13:00 bis ca 14:00 Uhr \n oder von ca 14:
 00 bis ca 15:00 \n oder von ca 15:00 bis ca 16:00 \n je nach Lust und Laune
  von SSG \n Herr der Ringe OFFLINE (Grund : Server-Neustart) \n Ist ein Upd
 ate geplant\, entfällt der Server-Neustart !!!\n\n
DTEND:20200211T150000Z
END:VEVENT
BEGIN:VEVENT
TRANSP:OPAQUE
UID:event-111@skc.ch
URL:https://skc.ch/dhdf/calendar/index.php/Event/4346-W%C3%B6chentlicher-Hd
 RO-Lotro-Server-Neustart/
DTSTART:20200218T130000Z
DTSTAMP:20200218T130000Z
CREATED:20200218T130000Z
SUMMARY:Wöchentlicher HdRO / Lotro Server Neustart
DESCRIPTION:Jeden Dienstag von ca 13:00 bis ca 14:00 Uhr \n oder von ca 14:
 00 bis ca 15:00 \n oder von ca 15:00 bis ca 16:00 \n je nach Lust und Laune
  von SSG \n Herr der Ringe OFFLINE (Grund : Server-Neustart) \n Ist ein Upd
 ate geplant\, entfällt der Server-Neustart !!!\n\n
DTEND:20200218T150000Z
END:VEVENT
BEGIN:VEVENT
TRANSP:OPAQUE
UID:event-112@skc.ch
URL:https://skc.ch/dhdf/calendar/index.php/Event/4347-W%C3%B6chentlicher-Hd
 RO-Lotro-Server-Neustart/
DTSTART:20200225T130000Z
DTSTAMP:20200225T130000Z
CREATED:20200225T130000Z
SUMMARY:Wöchentlicher HdRO / Lotro Server Neustart
DESCRIPTION:Jeden Dienstag von ca 13:00 bis ca 14:00 Uhr \n oder von ca 14:
 00 bis ca 15:00 \n oder von ca 15:00 bis ca 16:00 \n je nach Lust und Laune
  von SSG \n Herr der Ringe OFFLINE (Grund : Server-Neustart) \n Ist ein Upd
 ate geplant\, entfällt der Server-Neustart !!!\n\n
DTEND:20200225T150000Z
END:VEVENT
BEGIN:VEVENT
TRANSP:OPAQUE
UID:event-113@skc.ch
URL:https://skc.ch/dhdf/calendar/index.php/Event/4348-W%C3%B6chentlicher-Hd
 RO-Lotro-Server-Neustart/
DTSTART:20200304T130000Z
DTSTAMP:20200304T130000Z
CREATED:20200304T130000Z
SUMMARY:Wöchentlicher HdRO / Lotro Server Neustart
DESCRIPTION:Jeden Mittwoch von ca 14:00 bis ca 15:00\nHerr der Ringe OFFLIN
 E (Grund : Server-Neustart)\nIst ein Update geplant\, entfällt der Server-N
 eustart !!!
DTEND:20200304T140000Z
END:VEVENT
END:VCALENDAR
