BEGIN:VCALENDAR
METHOD:PUBLISH
VERSION:2.0
PRODID:-//WoltLab GmbH//WoltLab Calendar 2.0//EN
CALSCALE:GREGORIAN
X-WR-CALNAME;VALUE=TEXT:HdRO / Lotro-Shop Code der Woche
BEGIN:VEVENT
TRANSP:TRANSPARENT
UID:event-59@skc.ch
URL:https://skc.ch/dhdf/calendar/index.php/Event/3912-Do-20-12-2018-Do-27-1
 2-2018/
DTSTART;VALUE=DATE:20181220
DTSTAMP:20181220T000000Z
CREATED:20181220T000000Z
SUMMARY:Do, 20. 12. 2018 - Do, 27. 12. 2018
DESCRIPTION:Mit dem wöchentlichen Coupon erhaltet Ihr Folgendes kostenlos: 
 1x rote Farbe. \nCoupon-Code: REDDYE. Das Angebot gilt bis zum 27. Dezember
 !
DTEND;VALUE=DATE:20181228
END:VEVENT
BEGIN:VEVENT
TRANSP:TRANSPARENT
UID:event-60@skc.ch
URL:https://skc.ch/dhdf/calendar/index.php/Event/3913-Fr-28-12-2018-Do-3-1-
 2019/
DTSTART;VALUE=DATE:20181228
DTSTAMP:20181228T000000Z
CREATED:20181228T000000Z
SUMMARY:Fr, 28. 12. 2018 - Do, 3. 1. 2019
DESCRIPTION:Mit dem wöchentlichen Coupon erhaltet Ihr Folgendes kostenlos: 
 1x Farbe: „Waldläufer“-Grün. \nCoupon-Code: DYEGREEN. Das Angebot gilt bis 
 zum 3. Januar!
DTEND;VALUE=DATE:20190104
END:VEVENT
BEGIN:VEVENT
TRANSP:TRANSPARENT
UID:event-62@skc.ch
URL:https://skc.ch/dhdf/calendar/index.php/Event/3915-03-01-2019-bis-10-01-
 2019/
DTSTART;VALUE=DATE:20190103
DTSTAMP:20190103T000000Z
CREATED:20190103T000000Z
SUMMARY:03. 01. 2019 bis 10. 01. 2019
DESCRIPTION:Mit dem wöchentlichen Coupon erhaltet Ihr +100% Zeichenerwerb (
 90 Min.) kostenlos.\nCoupon-Code: MARKS.\nDas Angebot gilt bis zum 10. Janu
 ar!
DTEND;VALUE=DATE:20190111
END:VEVENT
END:VCALENDAR
